BEGIN:VCALENDAR
VERSION:2.0
PRODID:-//Health Education Resources - ECPv6.15.20//NONSGML v1.0//EN
CALSCALE:GREGORIAN
METHOD:PUBLISH
X-WR-CALNAME:Health Education Resources
X-ORIGINAL-URL:https://healthedresources.org
X-WR-CALDESC:Events for Health Education Resources
REFRESH-INTERVAL;VALUE=DURATION:PT1H
X-Robots-Tag:noindex
X-PUBLISHED-TTL:PT1H
BEGIN:VTIMEZONE
TZID:UTC
BEGIN:STANDARD
TZOFFSETFROM:+0000
TZOFFSETTO:+0000
TZNAME:UTC
DTSTART:20230101T000000
END:STANDARD
END:VTIMEZONE
BEGIN:VEVENT
DTSTART;TZID=UTC:20240128T090000
DTEND;TZID=UTC:20240128T090000
DTSTAMP:20260419T133644
CREATED:20230814T072137Z
LAST-MODIFIED:20230818T094842Z
UID:2312-1706432400-1706432400@healthedresources.org
SUMMARY:Whole-Food Plant-Based Cooking School
DESCRIPTION:
URL:https://healthedresources.org/event/whole-food-plant-based-cooking-school/
LOCATION:Homeland Better Living Center\, 31050 Hwy 74\, Homeland\, CA\, 92548\, United States
ATTACH;FMTTYPE=image/jpeg:https://healthedresources.org/wp-content/uploads/2023/08/ella-olsson-yb6bm_66Jdk-unsplash-scaled-1.jpg
ORGANIZER;CN="Mentone Health":MAILTO:mentonehealth@gmail.com
END:VEVENT
END:VCALENDAR