BEGIN:VCALENDAR
VERSION:2.0
PRODID:-//Health Education Resources - ECPv6.15.20//NONSGML v1.0//EN
CALSCALE:GREGORIAN
METHOD:PUBLISH
X-WR-CALNAME:Health Education Resources
X-ORIGINAL-URL:https://healthedresources.org
X-WR-CALDESC:Events for Health Education Resources
REFRESH-INTERVAL;VALUE=DURATION:PT1H
X-Robots-Tag:noindex
X-PUBLISHED-TTL:PT1H
BEGIN:VTIMEZONE
TZID:UTC
BEGIN:STANDARD
TZOFFSETFROM:+0000
TZOFFSETTO:+0000
TZNAME:UTC
DTSTART:20250101T000000
END:STANDARD
END:VTIMEZONE
BEGIN:VEVENT
DTSTART;TZID=UTC:20260417T173000
DTEND;TZID=UTC:20260417T203000
DTSTAMP:20260419T133531
CREATED:20260417T140309Z
LAST-MODIFIED:20260417T140416Z
UID:3163-1776447000-1776457800@healthedresources.org
SUMMARY:Unlock Your Health
DESCRIPTION:Dr. Seheult is quadruple board-certified in Internal Medicine\, Pulmonary Disease\, Critical Care\, and Sleep Medicine. As the co-founder of MedCram\, he has helped over one million YouTube subscribers better understand their health through clear\, engaging explanations that make complex medical topics simple and practical. \nCurrently serving as an Associate Professor at University of California\, Riverside and Loma Linda University\, Dr. Seheult is dedicated to bringing world-class medical knowledge directly to the community—empowering people with the tools they need to live healthier\, longer lives. \nJoin us on this journey to health. \nStay for the Q and A. \nFree plant-based meals provided for the first 300 people.
URL:https://healthedresources.org/event/unlock-your-health/
LOCATION:Heritage High School Auditorium\, 26001 Briggs Rd\, Menifee\, CA\, 92585\, United States
ATTACH;FMTTYPE=image/png:https://healthedresources.org/wp-content/uploads/2026/04/ChatGPT-Image-Apr-17-2026-at-06_33_14-AM.png
END:VEVENT
END:VCALENDAR